BEGIN:VCALENDAR
VERSION:2.0
PRODID:-//hacksw/handcal//NONSGML v1.0//EN
BEGIN:VEVENT
DTSTART:20260427
DTEND:20260428
LOCATION:Kembs
SUMMARY:Conseil municipal
URL:https://www.kembs.fr/Agenda/Conseil-municipal-00244.html
END:VEVENT
END:VCALENDAR